BEGIN:VCALENDAR
PRODID:NingEventWidget-v1
VERSION:2.0
METHOD:PUBLISH
BEGIN:VEVENT
UID:4320450:Event:60241
DTSTAMP:20260425T125008Z
SUMMARY:First Friday Preview Hosted by CraftNOW
DESCRIPTION:For nearly 30 years, art lovers in Philadelphia have reser
 ved the First Friday of every month for gallery hopping. To continue t
 his tradition, CraftNOW will bring together curators and artists for a
 n intimate preview on Thursday nights. On July, 2, join CraftNOW and p
 artner institutions for the ongoing series, Virtual First Friday Previ
 ew. Spend your happy hour interacting with other arts and culture enth
 usiasts and hear from some of Philadelphia's most prominent curators. 
 CraftNOW's executive director Leila Cartier will moderate the conversa
 tion and be joined by staff from Pentimenti Gallery, Paradigm Gallery,
  InLiquid Art + Design, The Clay Studio, and The Center for Art in Woo
 d. The program will feature artists and curators engaging in 10-minute
  intimate conversations, including a question and answer session.\n\nF
 or more information visit http://phillytodo.com/events/first-friday-pr
 eview-hosted-by-craftnow
DTSTART:20200702T213000Z
DTEND:20200702T223000Z
CATEGORIES:first, friday, preview
LOCATION:Zoom
WEBSITE:https://www.craftnowphila.org/firstfridaypreview/
URL:https://www.craftnowphila.org/firstfridaypreview/
CONTACT:
ORGANIZER;CN="Bryan Chan":http://phillytodo.com/profile/BryanChan
ATTACH;FMTTYPE="image/jpeg":https://storage.ning.com/topology/rest/1.0
 /file/get/6312268297?profile=original
ATTENDEE;ROLE=REQ-PARTICIPANT;PARTSTAT=ACCEPTED;RSVP=TRUE;CN="Bryan Ch
 an":http://phillytodo.com/profile/BryanChan
END:VEVENT
END:VCALENDAR
