BEGIN:VCALENDAR
PRODID:NingEventWidget-v1
VERSION:2.0
METHOD:PUBLISH
BEGIN:VEVENT
UID:4320450:Event:168902
DTSTAMP:20260425T125823Z
SUMMARY:First Friday Preview Co-hosted by CraftNOW and Past Present Pr
 ojects
DESCRIPTION:For nearly 30 years, art lovers in Philadelphia have reser
 ved the First Friday of every month for gallery hopping. CraftNOW will
  bring together a group of curators and artists for an intimate previe
 w on Thursday nights. For September’s event, Past Present Project’
 s founder and curator Heather Moqtaderi and contributing curator, Zind
 zi Harley will host the discussion. They will be highlighting Past Pre
 sent Project’s recent exhibition with Black Quantum Futurism titled 
 “Ancestors returning again / this time only for themselves.” Addit
 ionally, there will be interviews discussing Jack Larimore: Sculpture 
 at Atelier Gallery, Sarah Kavage’s Water Spirit at Lenapehoking-Wate
 rshed, and Wexler Gallery’s Embodied Abstraction.\n\nFor more inform
 ation visit http://phillytodo.com/events/first-friday-preview-co-hoste
 d-by-craftnow-and-past-present
DTSTART:20210902T213000Z
DTEND:20210902T230000Z
CATEGORIES:zoom, art, exibition
LOCATION:https://us04web.zoom.us/meeting/89862790722
WEBSITE:https://www.craftnowphila.org/
URL:https://www.craftnowphila.org/
CONTACT:4105705585
ORGANIZER:CraftNow
ATTACH;FMTTYPE="image/jpeg":https://storage.ning.com/topology/rest/1.0
 /file/get/9504803899?profile=original
ATTENDEE;ROLE=REQ-PARTICIPANT;PARTSTAT=ACCEPTED;RSVP=TRUE;CN="Bryan Ch
 an":http://phillytodo.com/profile/BryanChan
END:VEVENT
END:VCALENDAR
