BEGIN:VCALENDAR
PRODID:NingEventWidget-v1
VERSION:2.0
METHOD:PUBLISH
BEGIN:VEVENT
UID:4320450:Event:36719
DTSTAMP:20260425T124909Z
SUMMARY:First Friday Park After Dark
DESCRIPTION:Visitors can enjoy regional artists’ performances presen
 ted by FringeArts, just across from their future home on the waterfron
 t, and then stroll up Race Street to explore the galleries in Old City
 .\n\nFor more information visit http://phillytodo.com/events/first-fri
 day-park-after-dark
DTSTART:20140905T230000Z
DTEND:20140906T010000Z
CATEGORIES:waterfront, park
LOCATION:Race Street Pier
WEBSITE:http://www.delawareriverwaterfront.com/events/first-friday-par
 k-after-dark
URL:http://www.delawareriverwaterfront.com/events/first-friday-park-af
 ter-dark
CONTACT:215-922-2386
ORGANIZER;CN="Delaware River Waterfront Corp.":http://phillytodo.com/p
 rofile/DelawareRiverWaterfrontCorp
ATTACH;FMTTYPE="image/jpeg":http://storage.ning.com/topology/rest/1.0/
 file/get/3054973924?profile=original
ATTENDEE;ROLE=REQ-PARTICIPANT;PARTSTAT=ACCEPTED;RSVP=TRUE;CN="Delaware
  River Waterfront Corp.":http://phillytodo.com/profile/DelawareRiverWa
 terfrontCorp
END:VEVENT
END:VCALENDAR
