BEGIN:VCALENDAR
PRODID:NingEventWidget-v1
VERSION:2.0
METHOD:PUBLISH
BEGIN:VEVENT
UID:4320450:Event:46848
DTSTAMP:20260425T161536Z
SUMMARY:First Friday Movies Under the Stars and Stripes and Extended H
 ours
DESCRIPTION:Come to the Betsy Ross House for an evening of fun! $5 adm
 ission includes a tour of the Betsy Ross House and a viewing of \"Alli
 gator People\" in the courtyard. Visitors are encouraged to bring food
  and a bottle of wine to watch the movie\n\nFor more information visit
  http://phillytodo.com/events/first-friday-movies-under-the-stars-and-
 stripes-and-extended-1
DTSTART:20160902T210000Z
DTEND:20160903T010000Z
CATEGORIES:movie, night
LOCATION:Betsy Ross House
WEBSITE:http://historicphiladelphia.org/betsy-ross-house/betsy-ross-up
 coming-events/
URL:http://historicphiladelphia.org/betsy-ross-house/betsy-ross-upcomi
 ng-events/
CONTACT:
ORGANIZER:Betsy Ross House
ATTACH;FMTTYPE="image/jpeg":http://storage.ning.com/topology/rest/1.0/
 file/get/3054998045?profile=original
ATTENDEE;ROLE=REQ-PARTICIPANT;PARTSTAT=ACCEPTED;RSVP=TRUE;CN="Bryan Ch
 an":http://phillytodo.com/profile/BryanChan
END:VEVENT
END:VCALENDAR
