BEGIN:VCALENDAR
PRODID:NingEventWidget-v1
VERSION:2.0
METHOD:PUBLISH
BEGIN:VEVENT
UID:4320450:Event:28904
DTSTAMP:20260425T173705Z
SUMMARY:First Friday Art Opening at Eviama Life Spa
DESCRIPTION:Eviama Life Spa presents a special exhibit opening with ar
 tist Alice Watterson during First Friday, December 7 from 4-8pm. Indul
 ge with one-of-a-kind art, shopping specials, wine, brandy-spiked tea,
  biscotti and interesting bites. Alice Watterson of Flying High Studio
 , Santa Fe will be on hand to talk about her works. Alice creates whim
 sical mixed-media sculptures of birds and their human companions from 
 her bounty of handwoven fabrics, carved wood, wool felts and various n
 atural ephemera. You will delight in each creation, feel the magic inh
 erent in Alice's work.  Eviama Life Spa offers balm and beauty for the
  spirit as well as the body. Eviama’s “whole picture” approach m
 eans we consider your life experience, temperament, self esteem, healt
 h inheritance and health investment, environmental influences, lifesty
 le, and what it means to you to feel beautiful. Our staff provides a b
 road range of spa treatments including award-winning massage, organic 
 facials, beneficial wraps, and outstanding waxing, with a menu of ener
 gy work unique to Eviama.  Join us for a wonderful evening and an oppo
 rtunity to stock up on unique holiday gifts. For more information, vis
 it Eviama Life Spa on Facebook and visit our website at http://www.evi
 ama.com/.\n\nFor more information visit http://phillytodo.com/events/f
 irst-friday-art-opening-at-eviama-life-spa
DTSTART:20121207T210000Z
DTEND:20121208T010000Z
CATEGORIES:art, exhibit
LOCATION:Eviama Life Special
WEBSITE:http://www.eviama.com/classes_and_events/philadelphia-events.h
 tml
URL:http://www.eviama.com/classes_and_events/philadelphia-events.html
CONTACT:(215) 545-3344
ORGANIZER;CN="Aversa PR & Events":http://phillytodo.com/profile/KoryAv
 ersa277
ATTACH;FMTTYPE="image/jpeg":http://storage.ning.com/topology/rest/1.0/
 file/get/3054963146?profile=original
ATTENDEE;ROLE=REQ-PARTICIPANT;PARTSTAT=ACCEPTED;RSVP=TRUE;CN="Aversa P
 R & Events":http://phillytodo.com/profile/KoryAversa277
END:VEVENT
END:VCALENDAR
