BEGIN:VCALENDAR
PRODID:NingEventWidget-v1
VERSION:2.0
METHOD:PUBLISH
BEGIN:VEVENT
UID:4320450:Event:35076
DTSTAMP:20260425T161256Z
SUMMARY:First Annual Philadelphia Freelancers Holiday Ball
DESCRIPTION:\nWhether you're a Programmer, Designer, Bitcoin Entrepren
 eur, Artist, Photographer, DJ, or a myriad of other freelance careers,
  we welcome you all with open arms!\n\nWho: Freelancers from across P
 hiladelphia. All industries are invited! When: Wednesday, December 
 18th, 6-9pm Where: Khyber Pass Pub: 56 South 2nd Street, Old City Ph
 iladelphia Why: Because freelancers like us deserve a party too! How 
 Much: FREE! No Cover! Just RSVP below. What's Happening: Free Appetize
 rs, Blowing off steam, Meeting new people.\n \n\n\nStarr Hill Beers w
 ill be with us!\n\nStarr Hill Beer Tasting\n\n$2 Starr Hill Drafts\n\n
 The holidays can be a bittersweet time of year. For many, it’s a tim
 e of reuniting with family and friends and looking back at a hopefully
  busy and fruitful year. For others it can be a far lonelier occasion.
 \nSadly, freelancers and consultants are often left out in the cold be
 cause they have no definitive home base; they fly no single flag. And 
 an \"office party for one\" just doesn't quite ring of holiday cheer.
 \nWell, a few of us thought that now would be as good a time as any to
  beat the loneliness and celebrate the holiday season together wit
 h a fête of epic proportions.\nWe are proud to invite you to The F
 irst Annual Philadelphia Freelancers Holiday Ball!\nRSVP at PhillyFr
 eelancer.com\n\n\nFor more information visit http://phillytodo.com/eve
 nts/first-annual-philadelphia-freelancers-holiday-ball
DTSTART:20131218T230000Z
DTEND:20131219T020000Z
CATEGORIES:holiday, party, freelancers, christmas, networking
LOCATION:The Khyber Pass Pub
WEBSITE:http://phillyfreelancer.com/
URL:http://phillyfreelancer.com/
CONTACT:
ORGANIZER:Snyder Online Marketing & Philamarketing.com
ATTACH;FMTTYPE="image/jpeg":http://storage.ning.com/topology/rest/1.0/
 file/get/3054968197?profile=original
ATTENDEE;ROLE=REQ-PARTICIPANT;PARTSTAT=ACCEPTED;RSVP=TRUE;CN="Michael 
 Snyder":http://phillytodo.com/profile/MichaelSnyder
END:VEVENT
END:VCALENDAR
