BEGIN:VCALENDAR
PRODID:NingEventWidget-v1
VERSION:2.0
METHOD:PUBLISH
BEGIN:VEVENT
UID:4320450:Event:33610
DTSTAMP:20260425T173501Z
SUMMARY:First Annual Members Show
DESCRIPTION:InLiquid, The Philadelphia Arts Center and Second State Pr
 ess present the first annual Members Show, an exhibition featuring wor
 ks created by the members of each organization at Ice Box in the Crane
  Arts Building. The Members Show will run from August 3rd through Augu
 st 24th, and will showcase almost 200 diverse works across an array of
  media, and serve as a dynamic snapshot of the impressive work being c
 reated by Philadelphia’s up and coming talent in the arts. InLiquid,
  The Philadelphia Arts Center and Second State Press share a mission o
 f supporting hundreds of artists throughout the Philadelphia region. T
 he combined talent and resources of the three groups have helped to fo
 ster a vibrant creative community in Philadelphia for over fifteen yea
 rs. Together, they work to build a variety of educational opportunitie
 s, forge local networks, and assist in the creation of new and innovat
 ive artworks.\n\nFor more information visit http://phillytodo.com/even
 ts/first-annual-members-show
DTSTART:20130807T160000Z
DTEND:20130824T220000Z
CATEGORIES:arts-, exhibition
LOCATION:Icebox, Crane Arts Building
WEBSITE:
URL:
CONTACT:215-625-7988
ORGANIZER;CN="Skai Blue Media":http://phillytodo.com/profile/SkaiBlueM
 edia
ATTACH;FMTTYPE="image/jpeg":
ATTENDEE;ROLE=REQ-PARTICIPANT;PARTSTAT=ACCEPTED;RSVP=TRUE;CN="Skai Blu
 e Media":http://phillytodo.com/profile/SkaiBlueMedia
END:VEVENT
END:VCALENDAR
