BEGIN:VCALENDAR
PRODID:NingEventWidget-v1
VERSION:2.0
METHOD:PUBLISH
BEGIN:VEVENT
UID:4320450:Event:1541
DTSTAMP:20260425T160929Z
SUMMARY:First Annual Friends of the South Street Police Mini Detail
DESCRIPTION:* Taste of our Neighborhoods Featuring Food, Beverages, Pr
 izes, Raffles and Special Entertainment from the South Street Headhous
 e District, Queen Village, Bella Vista, Hawthorne, Washington Square W
 est and Society Hill\n* Sunday, May 23, 2010 from 3:00 to 6:00pm\n* So
 ciety Hill Dance Academy\n409 South 2nd Street\nPhiladelphia, PA 19147
 \n* $25.00 per person / Donations Accepted\n\nFor more information vis
 it http://phillytodo.com/events/first-annual-friends-of-the
DTSTART:20100523T190000Z
DTEND:20100523T220000Z
CATEGORIES:fundraiser
LOCATION:Society Hill Dance Academy
WEBSITE:http://www.policeministation.org
URL:http://www.policeministation.org
CONTACT:
ORGANIZER;CN="Gabriella Iacovetti":http://phillytodo.com/profile/Gabri
 ellaIacovetti
ATTACH;FMTTYPE="image/jpeg":
ATTENDEE;ROLE=REQ-PARTICIPANT;PARTSTAT=ACCEPTED;RSVP=TRUE;CN="Gabriell
 a Iacovetti":http://phillytodo.com/profile/GabriellaIacovetti
END:VEVENT
END:VCALENDAR
