BEGIN:VCALENDAR
PRODID:NingEventWidget-v1
VERSION:2.0
METHOD:PUBLISH
BEGIN:VEVENT
UID:4320450:Event:1197
DTSTAMP:20260425T142632Z
SUMMARY:Firecreek Restaurant’s Jazz Thursdays presents Tom Adams!
DESCRIPTION:Firecreek Restaurant’s Jazz Thursdays presents Tom Adams
 !\n\nTom Adams is a well-known musician in the entertainment industry.
  He’s released 3 CDs, appeared with artists ranging from Bette Midle
 r to Jewel to Coolio, has written music for movies, and has been a voc
 alist for television show like The Osbournes and Newlyweds. Aside from
  singing and writing music he also is a great pianist whose piano work
  can be heard on the highly acclaimed, CBS show, Cybill. Tom Adams is 
 a well-rounded musician who wont disappoint.\n\nDrink Specials begin a
 t 5 and end at 7: $2 Bud Lights, $3 Craft Beers, $4 Cocktails and Hous
 e Wine, 1/2 price Bar menu and $3 off Premium Wine by the glass.\n\nFo
 r more information visit http://phillytodo.com/events/firecreek-restau
 rants-jazz-3
DTSTART:20100422T220000Z
DTEND:20100423T010000Z
CATEGORIES:music
LOCATION:20 East Lancaster Ave, Downingtown Pa. 19335
WEBSITE:
URL:
CONTACT:
ORGANIZER;CN="Valerie Bunsick":http://phillytodo.com/profile/ValerieBu
 nsick
ATTACH;FMTTYPE="image/jpeg":http://storage.ning.com/topology/rest/1.0/
 file/get/3054946471?profile=original
ATTENDEE;ROLE=REQ-PARTICIPANT;PARTSTAT=ACCEPTED;RSVP=TRUE;CN="Valerie 
 Bunsick":http://phillytodo.com/profile/ValerieBunsick
END:VEVENT
END:VCALENDAR
