BEGIN:VCALENDAR
PRODID:NingEventWidget-v1
VERSION:2.0
METHOD:PUBLISH
BEGIN:VEVENT
UID:4320450:Event:1194
DTSTAMP:20260425T173517Z
SUMMARY:Firecreek Restaurant’s Jazz Thursdays presents David Cullen 
 and Cliff Starkey!
DESCRIPTION:Firecreek Restaurant’s Jazz Thursdays presents David Cul
 len and Cliff Starkey!\n\nDavid Cullen and Cliff Starky, two well-know
 n musicians, will be performing their smooth jazz sounds at Firecreek 
 Restaurant for an evening of Contemporary Jazz and Vocals. Cullen, a G
 rammy Award winning guitarist and Starky, whose been performing for ov
 er 10 years on Emeril Live, are a duo you won’t want to miss. Togeth
 er Cliff Starkey and David Cullen present an evening of soulful jazz g
 rooves that capture the essence of the Philly sound.\n\nDrink Specials
  begin at 5 and end at 7: $2 Bud Lights, $3 Craft Beers, $4 Cocktails 
 and House Wine, 1/2 price Bar menu and $3 off Premium Wine by the glas
 s.\n\nFor more information visit http://phillytodo.com/events/firecree
 k-restaurants-jazz-2
DTSTART:20100415T220000Z
DTEND:20100416T010000Z
CATEGORIES:music
LOCATION:20 East Lancaster Ave, Downingtown Pa. 19335
WEBSITE:
URL:
CONTACT:
ORGANIZER;CN="Valerie Bunsick":http://phillytodo.com/profile/ValerieBu
 nsick
ATTACH;FMTTYPE="image/jpeg":http://storage.ning.com/topology/rest/1.0/
 file/get/3054946652?profile=original
ATTENDEE;ROLE=REQ-PARTICIPANT;PARTSTAT=ACCEPTED;RSVP=TRUE;CN="Valerie 
 Bunsick":http://phillytodo.com/profile/ValerieBunsick
END:VEVENT
END:VCALENDAR
