BEGIN:VCALENDAR
PRODID:NingEventWidget-v1
VERSION:2.0
METHOD:PUBLISH
BEGIN:VEVENT
UID:4320450:Event:1192
DTSTAMP:20260425T173513Z
SUMMARY:Firecreek Restaurant’s Jazz Thursdays presents Andrew Neu!
DESCRIPTION:Firecreek Restaurant’s Jazz Thursdays presents Andrew Ne
 u!\n\nNeu is an active part of the Philadelphia music scene performing
  with dozens of local bands as well as internationally known groups Si
 ster Sledge, The Four Tops, The Temptations, and many more. He is in c
 onstant demand as a reed player, arranger, composer, and recording art
 ist. Though he’s shared the stage with many artists, since 1996 he h
 as been performing with the Philly Pops. Catching a performance by And
 rew Neu will be a treat separate from the great specials being served.
 \n\nDrink Specials begin at 5 and end at 7: $2 Bud Lights, $3 Craft Be
 ers, $4 Cocktails and House Wine, 1/2 price Bar menu and $3 off Premiu
 m Wine by the glass.\n\nFor more information visit http://phillytodo.c
 om/events/firecreek-restaurants-jazz-1
DTSTART:20100408T220000Z
DTEND:20100409T010000Z
CATEGORIES:music
LOCATION:20 East Lancaster Ave, Downingtown Pa. 19335
WEBSITE:
URL:
CONTACT:
ORGANIZER;CN="Valerie Bunsick":http://phillytodo.com/profile/ValerieBu
 nsick
ATTACH;FMTTYPE="image/jpeg":http://storage.ning.com/topology/rest/1.0/
 file/get/3054946451?profile=original
ATTENDEE;ROLE=REQ-PARTICIPANT;PARTSTAT=ACCEPTED;RSVP=TRUE;CN="Valerie 
 Bunsick":http://phillytodo.com/profile/ValerieBunsick
END:VEVENT
END:VCALENDAR
