BEGIN:VCALENDAR
PRODID:NingEventWidget-v1
VERSION:2.0
METHOD:PUBLISH
BEGIN:VEVENT
UID:4320450:Event:169111
DTSTAMP:20260425T124322Z
SUMMARY:Fire Marks: The Visible Proof of Insurance
DESCRIPTION:Join Carpenters’ Hall during national fire prevention mo
 nth as they dive into a presentation about the use of insurance fire m
 arks, and its American origin brought forth by Ben Franklin’s compan
 y The Philadelphia Contributionship. Serving as the nation’s first s
 uccessful property insurance company, they popularized the use of Brit
 ain’s insurance fire marks in early America. Seen on countless histo
 ric homes, including Carpenters’ Hall, the fire mark’s origin in P
 hiladelphia sparked the first of many American property insurance comp
 anies and an array of lead, wood, and iron markings decorating the cit
 y homes. \nCarol Smith, who will present this information, is an inde
 pendent curator and archivist who has worked with a number of Philadel
 phia’s institutions including Carpenters' Hall and Christ Church. Fo
 r many years she has served as the archivist and historian for The Phi
 ladelphia Contributionship, America’s oldest property insurance comp
 any. She serves on the board of directors of Fireman’s Hall Museum a
 nd has specialized in the history of insurance and firefighting. She h
 as a BA in American Civilization and an MA in Material Culture from th
 e University of Pennsylvania and is a certified archivist.\n\nFor more
  information visit http://phillytodo.com/events/fire-marks-the-visible
 -proof-of-insurance
DTSTART:20211028T213000Z
DTEND:20211028T230000Z
CATEGORIES:presentation
LOCATION:Carpenters' Hall
WEBSITE:https://www.carpentershall.org/events
URL:https://www.carpentershall.org/events
CONTACT:9737475650
ORGANIZER:Carpenters' Hall
ATTACH;FMTTYPE="image/jpeg":https://storage.ning.com/topology/rest/1.0
 /file/get/9651553670?profile=original
ATTENDEE;ROLE=REQ-PARTICIPANT;PARTSTAT=ACCEPTED;RSVP=TRUE;CN="Bryan Ch
 an":http://phillytodo.com/profile/BryanChan
END:VEVENT
END:VCALENDAR
