BEGIN:VCALENDAR
PRODID:NingEventWidget-v1
VERSION:2.0
METHOD:PUBLISH
BEGIN:VEVENT
UID:4320450:Event:56140
DTSTAMP:20260425T124852Z
SUMMARY:Fire Cider Workshop
DESCRIPTION:Registration Required. Fire Cider is a tonic that is tradi
 tionally made in the fall season, most notably used as a cold & flu pr
 eventative. It’s an old folk medicine, a digestive tonic, aiding in 
 proper digestion and to promote circulation. This vinegar based infusi
 on gets its name from it’s wild combination of ingredients that incl
 udes ginger, horseradish, jalapenos balanced with lemons, rosemary, tu
 rmeric and honey. This is a great time of year to gather the spicy roo
 ts, fruit and hardy herbs for this preparation so you can use them thr
 oughout the winter and spring. Makes a great gift too!\nEveryone will 
 get hands-on preparing the ingredients while our instructor, Nichole G
 erding will discuss the simplicity and benefits of vinegar infusions a
 nd variations for your herbal medicine cabinet. You’ll make a quart 
 of fire cider to take home along with the recipe.\nNichole’s backgro
 und is in Early American Domestic skills. For most of her life, it has
  been Nichole’s goal to integrate the past into the present and educ
 ate the public on these skills. This lead to the creation of her busin
 ess, Thankful Sage Farm School. For the past 7 years, Nichole has used
  her business to manufacture organic small batch soaps, heritage candl
 es, and beeswax products using simple and time tested methods. \n\nFo
 r more information visit http://phillytodo.com/events/fire-cider-works
 hop-1
DTSTART:20181013T160000Z
DTEND:20181013T180000Z
CATEGORIES:workshop, community, kitchen, cooking
LOCATION:Greensgrow Farms
WEBSITE:https://www.greensgrow.org/event/fire-cider-workshop-2/
URL:https://www.greensgrow.org/event/fire-cider-workshop-2/
CONTACT:
ORGANIZER;CN="Greensgrow Farms":http://phillytodo.com/profile/Greensgr
 owFarms
ATTACH;FMTTYPE="image/jpeg":http://storage.ning.com/topology/rest/1.0/
 file/get/3055015786?profile=original
ATTENDEE;ROLE=REQ-PARTICIPANT;PARTSTAT=ACCEPTED;RSVP=TRUE;CN="Greensgr
 ow Farms":http://phillytodo.com/profile/GreensgrowFarms
END:VEVENT
END:VCALENDAR
