BEGIN:VCALENDAR
PRODID:NingEventWidget-v1
VERSION:2.0
METHOD:PUBLISH
BEGIN:VEVENT
UID:4320450:Event:161224
DTSTAMP:20260425T123652Z
SUMMARY:Finding Stability in an Unsteady World | Livestream
DESCRIPTION:This event will be virtual via Zoom livestream.\nWe live i
 n turbulent times and it can feel like we have no protection from the 
 turmoil around us. We try to cope with our anxiety and stress but, if 
 we’re honest, many of the ways we try to protect ourselves don’t r
 eally do the job. This experience is not new. Buddha taught 2,500 year
 s ago that human life is full of suffering that we cannot prevent thro
 ugh external maneuvering. To help us find real protection, he taught t
 he practice of refuge—a method to develop lasting peace of mind. Com
 e learn to protect yourself from anger, stress, and worry, and gradual
 ly develop a stable and lasting experience of inner peace.\n\nSchedule
 :   \nSession 1 10:00 am - 11:15 am\nSession 2 11:45 am - 1:00 pm\n
 Cost: $25\nAbout the teacher: Gen Kelsang Chogyop is a Buddhist nun an
 d a close disciple of Venerable Geshe Kelsang Gyatso Rinpoche. She is 
 the main teacher at Kadampa Meditation Center Philadelphia. Gen Chogyo
 p has been studying and teaching Kadampa Buddhism for more than 20 yea
 rs, and is known for her warm heart, practical teachings and sincere p
 ractice of Dharma. She provides an inspiring example of a modern Buddh
 ist practitioner.\nThrough emphasizing the Bodhisattva’s way of life
 , she encourages all the students at the center to bring their practic
 e of Buddha’s teachings into their daily lives, bringing joy to as m
 any people as possible.\n\nFor more information visit http://phillytod
 o.com/events/finding-stability-in-an-unsteady-world-livestream
DTSTART:20210313T150000Z
DTEND:20210313T180000Z
CATEGORIES:meditation, wellness, spirituality, buddhist
LOCATION:Zoom livestream
WEBSITE:https://www.meditationinphiladelphia.org/findingstability/
URL:https://www.meditationinphiladelphia.org/findingstability/
CONTACT:267-702-3817
ORGANIZER;CN="Education Program Coordinator":http://phillytodo.com/pro
 file/EducationProgramCoordinator
ATTACH;FMTTYPE="image/jpeg":https://storage.ning.com/topology/rest/1.0
 /file/get/8581551700?profile=original
ATTENDEE;ROLE=REQ-PARTICIPANT;PARTSTAT=ACCEPTED;RSVP=TRUE;CN="Educatio
 n Program Coordinator":http://phillytodo.com/profile/EducationProgramC
 oordinator
END:VEVENT
END:VCALENDAR
