BEGIN:VCALENDAR
PRODID:NingEventWidget-v1
VERSION:2.0
METHOD:PUBLISH
BEGIN:VEVENT
UID:4320450:Event:36322
DTSTAMP:20260425T142854Z
SUMMARY:Finding Peace in a Busy World: Teachings on Modern Buddhism
DESCRIPTION:Are you finding it hard focus in a sea of busy activity? Â
  We have solutions that are practical and time-honored. Come hear Gen 
 Kelsang Tenzin, Buddhist monk and Resident Teacher of Amitayus Kadampa
  Buddhist Center, provide a clear explanation of how to keep a peacefu
 l mind in your daily life.Â  Gen Tenzin has taught Buddhism and medita
 tion for over fifteen years in California, Connecticut, Maine, New Jer
 sey, and Pennsylvania. He has studied and practiced meditation and Bud
 dhism for eighteen years.\n\n$10.Â  Please purchase tickets in advance
  at http://www.eventbee.com/v/amitayus.\n\nFor more information visit 
 http://phillytodo.com/events/finding-peace-in-a-busy-world-teachings-o
 n-modern-buddhism
DTSTART:20140503T180000Z
DTEND:20140503T193000Z
CATEGORIES:meditation, class, buddhism, wellness, spiritual, buddhist
LOCATION:Arch Street Friends Meeting
WEBSITE:http://www.meditationinphiladelphia.org/finding-peace-in-a-bus
 y-world-teachings-on-modern-buddhism/
URL:http://www.meditationinphiladelphia.org/finding-peace-in-a-busy-wo
 rld-teachings-on-modern-buddhism/
CONTACT:267-702-3817
ORGANIZER;CN="Education Program Coordinator":http://phillytodo.com/pro
 file/EducationProgramCoordinator
ATTACH;FMTTYPE="image/jpeg":http://storage.ning.com/topology/rest/1.0/
 file/get/3054974013?profile=original
ATTENDEE;ROLE=REQ-PARTICIPANT;PARTSTAT=ACCEPTED;RSVP=TRUE;CN="Educatio
 n Program Coordinator":http://phillytodo.com/profile/EducationProgramC
 oordinator
END:VEVENT
END:VCALENDAR
