BEGIN:VCALENDAR
PRODID:NingEventWidget-v1
VERSION:2.0
METHOD:PUBLISH
BEGIN:VEVENT
UID:4320450:Event:99469
DTSTAMP:20260425T142948Z
SUMMARY:Finding Healthy, Pure Pleasure: An Introduction to Tantra | Li
 vestream
DESCRIPTION:*via Zoom livestream*\nWe all know what it’s like to fee
 l good. Unfortunately, we’re also all too familiar with the pain of 
 when things fall apart or when life gets us down. How do we handle suc
 h difficulty? How can we feel good when the good things just don’t s
 eem to be there?\nIn these two sessions, Gen Tenzin will share with us
  simple but powerful instructions for finding the happiness we seek in
  our modern world. He will tell us that some of the reasons why we bec
 ome unhappy is that we are focusing too much on our current situation 
 and problems. If we think more about our future, we can act now to cre
 ate the future we want. By focusing on the future results of our actio
 ns, we can live with more certainty, calm, and happiness, knowing that
  where we are going is better than where we now stand.\nNo experience 
 is necessary. You do not need to be Buddhist to attend. Everyone is we
 lcome.\n\nGen Tenzin is a Buddhist monk of over 20 years and has taugh
 t Kadampa Buddhism extensively for over 21 years throughout the United
  States. As a senior Kadampa student and teacher, he is a close discip
 le of Venerable Geshe Kelsang Gyatso Rinpoche.\n\nFor more information
  visit http://phillytodo.com/events/finding-healthy-pure-pleasure-an-i
 ntroduction-to-tantra
DTSTART:20201121T153000Z
DTEND:20201121T183000Z
CATEGORIES:meditation, buddhism, livestream, wellness
LOCATION:Livestream
WEBSITE:https://www.meditationinphiladelphia.org/reincarnation-and-tan
 tra/
URL:https://www.meditationinphiladelphia.org/reincarnation-and-tantra/
CONTACT:267-702-3817
ORGANIZER;CN="Education Program Coordinator":http://phillytodo.com/pro
 file/EducationProgramCoordinator
ATTACH;FMTTYPE="image/jpeg":https://storage.ning.com/topology/rest/1.0
 /file/get/8161400880?profile=original
ATTENDEE;ROLE=REQ-PARTICIPANT;PARTSTAT=ACCEPTED;RSVP=TRUE;CN="Educatio
 n Program Coordinator":http://phillytodo.com/profile/EducationProgramC
 oordinator
END:VEVENT
END:VCALENDAR
