BEGIN:VCALENDAR
PRODID:NingEventWidget-v1
VERSION:2.0
METHOD:PUBLISH
BEGIN:VEVENT
UID:4320450:Event:45039
DTSTAMP:20260425T203605Z
SUMMARY:Film Screening: Miss Representation at New Century Trust
DESCRIPTION:Enjoy a special screening of Miss Representation, an award
 -winning film that exposes how mainstream media and culture contribute
  to the under-representation of women in positions of power and influe
 nce in America. Stories from teenage girls and provocative interviews 
 with politicians, journalists, entertainers, activists, and academics,
  like Katie Couric, Rosario Dawson, Gloria Steinem, Margaret Cho, Cond
 oleezza Rice, Rachel Maddow, and Nancy Pelosi, build momentum as Miss 
 Representation accumulates startling facts and statistics that will le
 ave the audience shaken, but armed with a new perspective. Wine and ho
 rs d’oeuvres will be served.  Presented in partnership with The Wal
 nut Club; food sponsored by Gran Caffe L’Aquila.\n\nFor more informa
 tion visit http://phillytodo.com/events/film-screening-miss-representa
 tion-at-new-century-trust
DTSTART:20160323T220000Z
DTEND:20160324T010000Z
CATEGORIES:film
LOCATION:New Century Trust
WEBSITE:http://www.newcenturytrust.org
URL:http://www.newcenturytrust.org
CONTACT:
ORGANIZER:New Century Trust
ATTACH;FMTTYPE="image/jpeg":http://storage.ning.com/topology/rest/1.0/
 file/get/3054995629?profile=original
ATTENDEE;ROLE=REQ-PARTICIPANT;PARTSTAT=ACCEPTED;RSVP=TRUE;CN="Paige Wo
 lf":http://phillytodo.com/profile/PaigeWolf
END:VEVENT
END:VCALENDAR
