BEGIN:VCALENDAR
PRODID:NingEventWidget-v1
VERSION:2.0
METHOD:PUBLISH
BEGIN:VEVENT
UID:4320450:Event:2561
DTSTAMP:20260425T160903Z
SUMMARY:Film Premiere: Love Letter
DESCRIPTION:Artist Stephen Powers teamed up with director Joey Garfiel
 d and the Ghost Robot production company to create a feature film that
  mixes elements of documentary and narrative film to tell the story of
  the Love Letter mural project— a series of 50 rooftop murals from 4
 5th to 63rd Streets along the Market Street corridor in West Philadelp
 hia.\n\nLove Letter is a project by Stephen Powers with the City of Ph
 iladelphia Mural Arts Program, and is sponsored by the Pew Center for 
 Arts & Heritage through the Philadelphia Exhibitions Initiative.\n\nPr
 ivate Event - Invitation Only\n\nFor more information visit http://phi
 llytodo.com/events/film-premiere-love-letter
DTSTART:20101026T230000Z
DTEND:20101027T010000Z
CATEGORIES:film, premiere
LOCATION:Prince Music Theater, 1412 Chestnut Street
WEBSITE:
URL:
CONTACT:
ORGANIZER;CN="Jenn McCreary":http://phillytodo.com/profile/JennMcCrear
 y
ATTACH;FMTTYPE="image/jpeg":
ATTENDEE;ROLE=REQ-PARTICIPANT;PARTSTAT=ACCEPTED;RSVP=TRUE;CN="Jenn McC
 reary":http://phillytodo.com/profile/JennMcCreary
END:VEVENT
END:VCALENDAR
