BEGIN:VCALENDAR
PRODID:NingEventWidget-v1
VERSION:2.0
METHOD:PUBLISH
BEGIN:VEVENT
UID:4320450:Event:1160
DTSTAMP:20260425T125024Z
SUMMARY:FIGHT NIGHT AT DELILAH'S!!
DESCRIPTION:PACQUIAO vs CLOTTEY This Saturday Night, March 13!!\n\nCom
 e Enjoy A Night of Boxing With us Surrounded by High- Definition Scree
 ns and \"The World's Most Beautiful Showgirls!\"\n\nFIGHT NIGHT IS ALW
 AYS THE RIGHT NIGHT AT DELILAH'S!!\n\nFor more information visit http:
 //phillytodo.com/events/fight-night-at-delilahs
DTSTART:20100314T000000Z
DTEND:20100314T060000Z
CATEGORIES:club, party
LOCATION:Delilah's
WEBSITE:http://www.delilahs.com
URL:http://www.delilahs.com
CONTACT:215-625-2800
ORGANIZER;CN="Delilah's":http://phillytodo.com/profile/Delilahs
ATTACH;FMTTYPE="image/jpeg":http://storage.ning.com/topology/rest/1.0/
 file/get/3054946406?profile=original
ATTENDEE;ROLE=REQ-PARTICIPANT;PARTSTAT=ACCEPTED;RSVP=TRUE;CN="Delilah'
 s":http://phillytodo.com/profile/Delilahs
END:VEVENT
END:VCALENDAR
