BEGIN:VCALENDAR
PRODID:NingEventWidget-v1
VERSION:2.0
METHOD:PUBLISH
BEGIN:VEVENT
UID:4320450:Event:1210
DTSTAMP:20260425T142618Z
SUMMARY:FIGHT NIGHT AT DELILAH'S ~ SAT APRIL 3!
DESCRIPTION:HOPKINS vs JONES Saturday April 3\n\nCome enjoy boxing's f
 inest Bernard Hopkins vs Roy Jones Jr. at Delilah's surrounded by High
 - Definition screens and \"The World's Most Beautiful Showgirls!\"\n\n
 FIGHT NIGHT IS ALWAYS THE RIGHT NIGHT AT DELILAH'S!!\n\nFor more infor
 mation visit http://phillytodo.com/events/fight-night-at-delilahs-sat
DTSTART:20100403T230000Z
DTEND:20100404T180000Z
CATEGORIES:fight, party
LOCATION:Delilah's Gentlemen's Club & Steakhouse
WEBSITE:http://www.delilahs.com
URL:http://www.delilahs.com
CONTACT:215-625-2800 x101
ORGANIZER;CN="Delilah's":http://phillytodo.com/profile/Delilahs
ATTACH;FMTTYPE="image/jpeg":http://storage.ning.com/topology/rest/1.0/
 file/get/3054943209?profile=original
ATTENDEE;ROLE=REQ-PARTICIPANT;PARTSTAT=ACCEPTED;RSVP=TRUE;CN="Delilah'
 s":http://phillytodo.com/profile/Delilahs
END:VEVENT
END:VCALENDAR
