BEGIN:VCALENDAR
PRODID:NingEventWidget-v1
VERSION:2.0
METHOD:PUBLISH
BEGIN:VEVENT
UID:4320450:Event:2955
DTSTAMP:20260425T142556Z
SUMMARY:FIGHT NIGHT AT DELILAH'S ~ SAT NOVEMBER 13!
DESCRIPTION:This Saturday, November 13\n\nEnjoy Paquaio VS Margarito s
 urrounded by high-definition screens and \"The World's Most Beautiful 
 Showgirls!\"\n\nFight Night Is Always the Right Night at Delilah's!!\n
 \nFor more information visit http://phillytodo.com/events/fight-night-
 at-delilahs-sat-7
DTSTART:20101114T000000Z
DTEND:20101114T070000Z
CATEGORIES:fight, party
LOCATION:Delilah's Gentlemen's Club & Steakhouse
WEBSITE:http://www.zee-bar.com
URL:http://www.zee-bar.com
CONTACT:215-922-2994 x106
ORGANIZER;CN="Delilah's":http://phillytodo.com/profile/Delilahs
ATTACH;FMTTYPE="image/jpeg":http://storage.ning.com/topology/rest/1.0/
 file/get/3054943209?profile=original
ATTENDEE;ROLE=REQ-PARTICIPANT;PARTSTAT=ACCEPTED;RSVP=TRUE;CN="Delilah'
 s":http://phillytodo.com/profile/Delilahs
END:VEVENT
END:VCALENDAR
