BEGIN:VCALENDAR
PRODID:NingEventWidget-v1
VERSION:2.0
METHOD:PUBLISH
BEGIN:VEVENT
UID:4320450:Event:1621
DTSTAMP:20260425T142658Z
SUMMARY:FIGHT NIGHT AT DELILAH'S ~ SAT JUNE 12!
DESCRIPTION:This Saturday June 12 ~ Enjoy UFC 115 surrounded by High- 
 definition screens and\"The World's Most Beautiful Showgirls!\"\n\nFIG
 HT NIGHT IS ALWAYS THE RIGHT NIGHT AT DELILAH'S!\n\nFor more informati
 on visit http://phillytodo.com/events/fight-night-at-delilahs-sat-6
DTSTART:20100612T230000Z
DTEND:20100613T060000Z
CATEGORIES:fight, party
LOCATION:Delilah's Gentlemen's Club & Steakhouse
WEBSITE:http://www.delilahs.com
URL:http://www.delilahs.com
CONTACT:215-625-2800
ORGANIZER;CN="Delilah's":http://phillytodo.com/profile/Delilahs
ATTACH;FMTTYPE="image/jpeg":http://storage.ning.com/topology/rest/1.0/
 file/get/3054943209?profile=original
ATTENDEE;ROLE=REQ-PARTICIPANT;PARTSTAT=ACCEPTED;RSVP=TRUE;CN="Delilah'
 s":http://phillytodo.com/profile/Delilahs
END:VEVENT
END:VCALENDAR
