BEGIN:VCALENDAR
PRODID:NingEventWidget-v1
VERSION:2.0
METHOD:PUBLISH
BEGIN:VEVENT
UID:4320450:Event:1467
DTSTAMP:20260425T142555Z
SUMMARY:FIGHT NIGHT AT DELILAH'S ~ SAT MAY 15!
DESCRIPTION:Enjoy two great fights in one night this Saturday May 15 a
 t Delilah's! Boxing's Khan VS Malignaggi and Srikeforce MMA, All surro
 unded by high definition screens and \"The World's Most Beautiful Show
 girls!\"\n\nFIGHT NIGHT IS ALWAYS THE RIGHT NIGHT AT DELILAH'S!\n\nFor
  more information visit http://phillytodo.com/events/fight-night-at-de
 lilahs-sat-5
DTSTART:20100515T230000Z
DTEND:20100516T060000Z
CATEGORIES:fight, party
LOCATION:Delilah's
WEBSITE:http://www.delilahs.com
URL:http://www.delilahs.com
CONTACT:215-625-2800 x101
ORGANIZER;CN="Delilah's":http://phillytodo.com/profile/Delilahs
ATTACH;FMTTYPE="image/jpeg":http://storage.ning.com/topology/rest/1.0/
 file/get/3054943209?profile=original
ATTENDEE;ROLE=REQ-PARTICIPANT;PARTSTAT=ACCEPTED;RSVP=TRUE;CN="Delilah'
 s":http://phillytodo.com/profile/Delilahs
END:VEVENT
END:VCALENDAR
