BEGIN:VCALENDAR
PRODID:NingEventWidget-v1
VERSION:2.0
METHOD:PUBLISH
BEGIN:VEVENT
UID:4320450:Event:1447
DTSTAMP:20260425T142558Z
SUMMARY:FIGHT NIGHT AT DELILAH'S ~ SAT MAY 8!
DESCRIPTION:This Saturday May 8, Williams vs Cintron and UFC 113!\n\nC
 ome enjoy two great fights on our High- Definition screens surrounded 
 by \"The World's most Beautiful Showgirls!\"\n\nFIGHT NIGHT IS ALWAYS 
 THE RIGHT NIGHT AT DELILAH'S!!\n\nFor more information visit http://ph
 illytodo.com/events/fight-night-at-delilahs-sat-4
DTSTART:20100508T230000Z
DTEND:20100509T060000Z
CATEGORIES:fight, party
LOCATION:Delilah's Gentlemen's Club & Steakhouse
WEBSITE:http://www.delilahs.com
URL:http://www.delilahs.com
CONTACT:215-625-2800 x101
ORGANIZER;CN="Delilah's":http://phillytodo.com/profile/Delilahs
ATTACH;FMTTYPE="image/jpeg":http://storage.ning.com/topology/rest/1.0/
 file/get/3054943209?profile=original
ATTENDEE;ROLE=REQ-PARTICIPANT;PARTSTAT=ACCEPTED;RSVP=TRUE;CN="Delilah'
 s":http://phillytodo.com/profile/Delilahs
END:VEVENT
END:VCALENDAR
