BEGIN:VCALENDAR
PRODID:NingEventWidget-v1
VERSION:2.0
METHOD:PUBLISH
BEGIN:VEVENT
UID:4320450:Event:1402
DTSTAMP:20260425T142558Z
SUMMARY:FIGHT NIGHT AT DELILAH'S ~ SAT MAY 1!
DESCRIPTION:This Saturday May 1 MAYWEATHER vs MOSLEY!!\n\nEnjoy One of
  the Greatest Super Fight Boxing Match-Up's with us at Delilah's Surro
 unded by High- Definition screens and \"The World's Most Beautiful Sho
 wgirls!\"\n\nFIGHT NIGHT IS ALWAYS THE RIGHT NIGHT AT DELILAH'S!!\n\nF
 or more information visit http://phillytodo.com/events/fight-night-at-
 delilahs-sat-3
DTSTART:20100501T230000Z
DTEND:20100502T060000Z
CATEGORIES:fight, party
LOCATION:Delilah's Gentlemen's Club & Steakhouse
WEBSITE:http://www.delilahs.com
URL:http://www.delilahs.com
CONTACT:215-625-2800
ORGANIZER;CN="Delilah's":http://phillytodo.com/profile/Delilahs
ATTACH;FMTTYPE="image/jpeg":http://storage.ning.com/topology/rest/1.0/
 file/get/3054946441?profile=original
ATTENDEE;ROLE=REQ-PARTICIPANT;PARTSTAT=ACCEPTED;RSVP=TRUE;CN="Delilah'
 s":http://phillytodo.com/profile/Delilahs
END:VEVENT
END:VCALENDAR
