BEGIN:VCALENDAR
PRODID:NingEventWidget-v1
VERSION:2.0
METHOD:PUBLISH
BEGIN:VEVENT
UID:4320450:Event:1320
DTSTAMP:20260425T162641Z
SUMMARY:FIGHT NIGHT AT DELILAH'S ~ SAT APRIL 17!
DESCRIPTION:Come out and enjoy two great fights in one night surrounde
 d by High-Definition screens and \"The World's Most Beautiful Showgirl
 's\"!\n\nThis Saturday 4/17 at Delilah's another exciting boxing match
 ,Middleweight fighters PAVLIK vs MARTINEZ as well as MMA fight, STRIKE
 FORCE!\n\nFIGHT NIGHT IS ALWAYS THE RIGHT NIGHT AT DELILAH'S!!\n\nFor 
 more information visit http://phillytodo.com/events/fight-night-at-del
 ilahs-sat-1
DTSTART:20100417T230000Z
DTEND:20100418T060000Z
CATEGORIES:party
LOCATION:Delilah's Gentlemen's Club & Steakhouse
WEBSITE:http://www.delilahs.com
URL:http://www.delilahs.com
CONTACT:215-625-2800
ORGANIZER;CN="Delilah's":http://phillytodo.com/profile/Delilahs
ATTACH;FMTTYPE="image/jpeg":http://storage.ning.com/topology/rest/1.0/
 file/get/3054946580?profile=original
ATTENDEE;ROLE=REQ-PARTICIPANT;PARTSTAT=ACCEPTED;RSVP=TRUE;CN="Delilah'
 s":http://phillytodo.com/profile/Delilahs
END:VEVENT
END:VCALENDAR
