BEGIN:VCALENDAR
PRODID:NingEventWidget-v1
VERSION:2.0
METHOD:PUBLISH
BEGIN:VEVENT
UID:4320450:Event:16602
DTSTAMP:20260425T124910Z
SUMMARY:Fight Gone Bad 6
DESCRIPTION:Fight Gone Bad is turning 6! On September 17, 2011, CrossF
 itters from around the world will come together to endure one of the m
 ost grueling workouts in honor of those men and women who have given a
  lifetime of service and sacrifice. During the event the athletes will
  challenge themselves in honor of The Warrior Foundation, Camp Patriot
  and Infant Swim Rescue foundations.\n \nTo signup: https://fgb6.rap
 idgiving.com/tms/jointeam.aspx?tk=B0CHXUP\n\nFor more information visi
 t http://phillytodo.com/events/fight-gone-bad-6
DTSTART:20120915T120000Z
DTEND:20120915T170000Z
CATEGORIES:charity, crossfit, athlete, event, "&", after, party
LOCATION:The Piazza at Schmidt's
WEBSITE:http://crossfitlove.com
URL:http://crossfitlove.com
CONTACT:570.640.5440
ORGANIZER;CN="Joe Petrusky":http://phillytodo.com/profile/JoePetrusky
ATTACH;FMTTYPE="image/jpeg":http://storage.ning.com/topology/rest/1.0/
 file/get/3054954954?profile=original
ATTENDEE;ROLE=REQ-PARTICIPANT;PARTSTAT=ACCEPTED;RSVP=TRUE;CN="Joe Petr
 usky":http://phillytodo.com/profile/JoePetrusky
END:VEVENT
END:VCALENDAR
