BEGIN:VCALENDAR
PRODID:NingEventWidget-v1
VERSION:2.0
METHOD:PUBLISH
BEGIN:VEVENT
UID:4320450:Event:33008
DTSTAMP:20260425T160044Z
SUMMARY:Fight Fire with Fire
DESCRIPTION:Fight Fire with Fire is a BBQ Cook-Off and All-You-Can-Eat
  BBQ and Beer Event\n \nSaturday, September 21, 2013\n12:00PM - 4:00P
 M\n \n39th & Market Streets    Philadelphia, PA 19139\n \nTreat you
 rself to samples of the best BBQ around!  Plus enjoy live music, cold
  beer, fun for the kids and more...\n \nTICKETS are on sale now at ht
 tp://www.redcross.org/news/event/fight-fire-with-fire\n-       
    $25 in advance ($35 at the door)\n-          $15 for Chi
 ldren 12 and under\n \nAll proceeds to benefit Red Cross House, local
  fire victims, and disaster relief.\n \nIf you’re interested in spo
 nsorship or participating as a vendor please contact Michelle Wigianto
  at michelle.wigianto@redcross.org\n\nFor more information visit http:
 //phillytodo.com/events/fight-fire-with-fire
DTSTART:20130921T160000Z
DTEND:20130921T200000Z
CATEGORIES:fundraiser, and, outdoor, food, event
LOCATION:University City
WEBSITE:http://www.redcross.org/news/event/fight-fire-with-fire
URL:http://www.redcross.org/news/event/fight-fire-with-fire
CONTACT:215.299.4050
ORGANIZER:Friends of Red Cross Leadership Council
ATTACH;FMTTYPE="image/jpeg":http://storage.ning.com/topology/rest/1.0/
 file/get/3054967027?profile=original
ATTENDEE;ROLE=REQ-PARTICIPANT;PARTSTAT=ACCEPTED;RSVP=TRUE;CN="Carly Sp
 ross":http://phillytodo.com/profile/CarlySpross
END:VEVENT
END:VCALENDAR
