BEGIN:VCALENDAR
PRODID:NingEventWidget-v1
VERSION:2.0
METHOD:PUBLISH
BEGIN:VEVENT
UID:4320450:Event:29617
DTSTAMP:20260425T160901Z
SUMMARY:Fifty Shades of Cupid
DESCRIPTION:A little bit naughty. A little bit kinky. A little bit wil
 d. This is a workshop designed for beginners to the wild, kinky side o
 f sex ... nothing TOO crazy, we promise!\n2 seasoned sexuality educato
 rs will introduce you to how you can get freaky without freaking your 
 partner out, ways you can get your kink on safely, and ways to introdu
 ce a little teasin' to your pleasin'. This workshop is a must-attend f
 or anyone who's always wanted to get a little freaky, but didn't know 
 where to start.\nThis event is coed.\n\nFor more information visit htt
 p://phillytodo.com/events/fifty-shades-of-cupid
DTSTART:20130203T180000Z
DTEND:20130203T200000Z
CATEGORIES:workshop
LOCATION:The Velvet Lily
WEBSITE:http://www.thevelvetlily.com
URL:http://www.thevelvetlily.com
CONTACT:(800) 328-5459
ORGANIZER:The Velvet Lily
ATTACH;FMTTYPE="image/jpeg":http://storage.ning.com/topology/rest/1.0/
 file/get/3054960450?profile=original
ATTENDEE;ROLE=REQ-PARTICIPANT;PARTSTAT=ACCEPTED;RSVP=TRUE;CN="Meghan D
 uffey":http://phillytodo.com/profile/MeghanDuffey
END:VEVENT
END:VCALENDAR
