BEGIN:VCALENDAR
PRODID:NingEventWidget-v1
VERSION:2.0
METHOD:PUBLISH
BEGIN:VEVENT
UID:4320450:Event:28587
DTSTAMP:20260425T130712Z
SUMMARY:Fifty Shades of Christmas
DESCRIPTION:Delilah's celebrates the holiday season with \"50 Shades o
 f Christmas\" on Wed, Dec 12!  Feature performances by the Delilah's 
 Dance Team, dancers of the dark arts Melissa Bang Bang & LuLu Lollipop
 , and the annual Sexy Santa Contest. \nShow begins at 7p with select 
 open bar & butlered hors d'oeurvres, sponsored in part by Heineken, Re
 d Stag, Grey Goose & Bacardi Oakhart.  Donations will be accepted for
  Philabundance.  Don't forget the after party next door at Zee Bar.\n
 \nFor more information visit http://phillytodo.com/events/fifty-shades
 -of-christmas
DTSTART:20121213T000000Z
DTEND:20121213T070000Z
CATEGORIES:holiday, spectacular
LOCATION:Delilah's Gentleman's Club & Steakhouse
WEBSITE:http://www.delilahs.com
URL:http://www.delilahs.com
CONTACT:215.625.2800 x101
ORGANIZER;CN="Francesca DiDomenico":http://phillytodo.com/profile/Fran
 cescaDiDomenico
ATTACH;FMTTYPE="image/jpeg":http://storage.ning.com/topology/rest/1.0/
 file/get/3054959214?profile=original
ATTENDEE;ROLE=REQ-PARTICIPANT;PARTSTAT=ACCEPTED;RSVP=TRUE;CN="Francesc
 a DiDomenico":http://phillytodo.com/profile/FrancescaDiDomenico
END:VEVENT
END:VCALENDAR
