BEGIN:VCALENDAR
PRODID:NingEventWidget-v1
VERSION:2.0
METHOD:PUBLISH
BEGIN:VEVENT
UID:4320450:Event:168628
DTSTAMP:20260425T112905Z
SUMMARY:Field Companion Artist's Reception
DESCRIPTION:Philadelphia based artists Nadia Hironaka & Matthew Suib 
 \nhttps://www.hironakasuib.com/about have created a new immersive film
  and installation  for Rowan University Art Gallery set in a microcos
 mic forest based loosely on the pine  barrens that dot Southern NJ. L
 ike many, the duo found refuge and release throughout the  Covid-19 p
 andemic hiking and foraging in these remote, natural landscapes. As Am
 erica's  social fabric frayed deeply in recent months and years, they
  considered forest ecosystems  in terms of symbiotic and collaborativ
 e relationships that sustain coexistence and  community. \n\nFor mor
 e information visit http://phillytodo.com/events/field-companion-artis
 t-s-reception
DTSTART:20210907T210000Z
DTEND:20211030T230000Z
CATEGORIES:art, gallery, exhibition
LOCATION:Rowan University Art Gallery
WEBSITE:https://sites.rowan.edu/artgallery/visit/index.html
URL:https://sites.rowan.edu/artgallery/visit/index.html
CONTACT:(856)256-4521
ORGANIZER:Mary Salvante
ATTACH;FMTTYPE="image/jpeg":https://storage.ning.com/topology/rest/1.0
 /file/get/9543674491?profile=original
ATTENDEE;ROLE=REQ-PARTICIPANT;PARTSTAT=ACCEPTED;RSVP=TRUE;CN="mary sal
 vante":http://phillytodo.com/profile/marysalvante
END:VEVENT
END:VCALENDAR
