BEGIN:VCALENDAR
PRODID:NingEventWidget-v1
VERSION:2.0
METHOD:PUBLISH
BEGIN:VEVENT
UID:4320450:Event:47802
DTSTAMP:20260425T125025Z
SUMMARY:Fibber (A Comedy Storytelling Show)
DESCRIPTION: 4 Storytellers. 1 Fibber. Listen to the stories, interrog
 ate the performers, and vote for the person whose pants you think are 
 on fire! Featuring: Andrew Jeffrey Wright, Geoff Jackson, Cecilia 
 Watson, Katonya Mosley. Plus stand-up from Robert Ecks. Hosted by H
 illary Rea.\n\nFor more information visit http://phillytodo.com/events
 /fibber-a-comedy-storytelling-show
DTSTART:20161020T230000Z
DTEND:20161021T003000Z
CATEGORIES:storytelling, comedy, live, event
LOCATION:Good Good Comedy Theatre
WEBSITE:http://goodgoodcomedy.com/fibber
URL:http://goodgoodcomedy.com/fibber
CONTACT:(215) 399-1279
ORGANIZER:Good Good Comedy
ATTACH;FMTTYPE="image/jpeg":http://storage.ning.com/topology/rest/1.0/
 file/get/3054998204?profile=original
ATTENDEE;ROLE=REQ-PARTICIPANT;PARTSTAT=ACCEPTED;RSVP=TRUE;CN="Hillary 
 Rea":http://phillytodo.com/profile/HillaryRea
END:VEVENT
END:VCALENDAR
