BEGIN:VCALENDAR
PRODID:NingEventWidget-v1
VERSION:2.0
METHOD:PUBLISH
BEGIN:VEVENT
UID:4320450:Event:48328
DTSTAMP:20260425T142559Z
SUMMARY:Fibber (A Comedy Storytelling Show)
DESCRIPTION: 4 Storytellers. 1 Fibber. Listen to the stories, interrog
 ate the performers, and vote for the person whose pants you think are 
 on fire! Featuring: Cara Schmidt, Neil Bardhan, Nisse Greenberg an
 d Rose Luardo. Plus stand-up from Sidney Gantt. Hosted by Hillary R
 ea.\n\nFor more information visit http://phillytodo.com/events/fibber-
 a-comedy-storytelling-show-1
DTSTART:20161216T000000Z
DTEND:20161216T013000Z
CATEGORIES:comedy, storytelling
LOCATION:Good Good Comedy Theatre
WEBSITE:http://goodgoodcomedy.com
URL:http://goodgoodcomedy.com
CONTACT:(215) 399-1279
ORGANIZER:Good Good Comedy Theatre
ATTACH;FMTTYPE="image/jpeg":http://storage.ning.com/topology/rest/1.0/
 file/get/3054998204?profile=original
ATTENDEE;ROLE=REQ-PARTICIPANT;PARTSTAT=ACCEPTED;RSVP=TRUE;CN="Hillary 
 Rea":http://phillytodo.com/profile/HillaryRea
END:VEVENT
END:VCALENDAR
