BEGIN:VCALENDAR
PRODID:NingEventWidget-v1
VERSION:2.0
METHOD:PUBLISH
BEGIN:VEVENT
UID:4320450:Event:41323
DTSTAMP:20260425T141428Z
SUMMARY:FFA Comedy Jawn with Delco Proper's John McKeever
DESCRIPTION:On Saturday, November 14 at 8pm, Boot & Saddle presents FF
 A Comedy Jawn feat. Headliner John McKeever and a full line-up of fant
 astic stand-up comedy.McKeever was part of the 2014 Montreal Comedy Fe
 stival as a new New Face, performed at the 2013 Great American Comedy 
 Festival, was named one of the top comics in the city by Philadelphia 
 Magazine and placed 3rd overall in the 2011 Philly’s Phunniest Compe
 tition. He is one of the creators and stars of the Comedy Central Web 
 Series Delco Proper and appeared on season two of Adam Devine’s Hous
 e Party on Comedy Central and How to Get Away with Murder on ABC.The s
 how will also feature Darryl Charles (Helium Comedy Club), Aaron Hertz
 og (Best Stand-Up, WitOut Awards), Mike Rainey (Terrible Dad Blog) and
  host Alison Zeidman (New York Times Loose Ends).Tickets available onl
 ine: http://www.bootandsaddlephilly.com/event/887965-ffa-comedy-jawn-
 headliner-philadelphia/\n\nFor more information visit http://phillytod
 o.com/events/ffa-comedy-jawn-with-headliner-shane-torres
DTSTART:20151115T003000Z
DTEND:20151115T030000Z
CATEGORIES:comedy, stand-up
LOCATION:Boot & Saddle
WEBSITE:http://www.bootandsaddlephilly.com/event/887965
URL:http://www.bootandsaddlephilly.com/event/887965
CONTACT:
ORGANIZER;CN="Free For All":http://phillytodo.com/profile/FreeForAll
ATTACH;FMTTYPE="image/jpeg":http://storage.ning.com/topology/rest/1.0/
 file/get/3054990313?profile=original
ATTENDEE;ROLE=REQ-PARTICIPANT;PARTSTAT=ACCEPTED;RSVP=TRUE;CN="Free For
  All":http://phillytodo.com/profile/FreeForAll
END:VEVENT
END:VCALENDAR
