BEGIN:VCALENDAR
PRODID:NingEventWidget-v1
VERSION:2.0
METHOD:PUBLISH
BEGIN:VEVENT
UID:4320450:Event:39502
DTSTAMP:20260425T142823Z
SUMMARY:Festivus for the Rest of Us
DESCRIPTION:Join us Thursday, December 18th at 6pm for a \"Festivus fo
 r the Rest of Us\" celebration! $4 Yards pints all night, the Festivus
  pole, the airing of grievances and feats of strength.\n\nFor more inf
 ormation visit http://phillytodo.com/events/festivus-for-the-rest-of-u
 s
DTSTART:20141218T230000Z
DTEND:20141219T070000Z
CATEGORIES:festivus, for, the, rest, of, us, celebration
LOCATION:Irish Pub
WEBSITE:http://irishpubphilly.cm
URL:http://irishpubphilly.cm
CONTACT:215-568-5603
ORGANIZER:Erin
ATTACH;FMTTYPE="image/jpeg":http://storage.ning.com/topology/rest/1.0/
 file/get/3054984893?profile=original
ATTENDEE;ROLE=REQ-PARTICIPANT;PARTSTAT=ACCEPTED;RSVP=TRUE;CN="Allie Pf
 ender":http://phillytodo.com/profile/AlliePfender
END:VEVENT
END:VCALENDAR
