BEGIN:VCALENDAR
PRODID:NingEventWidget-v1
VERSION:2.0
METHOD:PUBLISH
BEGIN:VEVENT
UID:4320450:Event:37406
DTSTAMP:20260425T173640Z
SUMMARY:Fermented Grains & Flatbreads: Sourdough Primer with Philly Br
 ead
DESCRIPTION:Philly Bread's dough wizard, Pete Merzbacher comes to the 
 Community Kitchen. to teach the secrets of the 12 stages of making bre
 ad, from mis en place to cooling. Learn to shape and bake a boule, bak
 e fermented grains on the stovetop, foccaccia styles and flatbreads. P
 lus easy cast iron, griddle and dutch oven breads. Pete will make a so
 urdough starter for everyone to take home.Register: http://www.greensg
 row.org/event/fermented-grains-flatbreads-sourdough-primer-with-philly
 -bread/\n\nFor more information visit http://phillytodo.com/events/fer
 mented-grains-flatbreads-sourdough-primer-with-philly-bread
DTSTART:20140906T160000Z
DTEND:20140906T180000Z
CATEGORIES:cooking, class
LOCATION:Greensgrow Farms
WEBSITE:http://greensgrow.org
URL:http://greensgrow.org
CONTACT:2154272702
ORGANIZER;CN="Greensgrow Farms":http://phillytodo.com/profile/Greensgr
 owFarms
ATTACH;FMTTYPE="image/jpeg":
ATTENDEE;ROLE=REQ-PARTICIPANT;PARTSTAT=ACCEPTED;RSVP=TRUE;CN="Greensgr
 ow Farms":http://phillytodo.com/profile/GreensgrowFarms
END:VEVENT
END:VCALENDAR
