BEGIN:VCALENDAR
PRODID:NingEventWidget-v1
VERSION:2.0
METHOD:PUBLISH
BEGIN:VEVENT
UID:4320450:Event:29558
DTSTAMP:20260425T173517Z
SUMMARY:Feast Your Eyes Dinner Salon
DESCRIPTION:Ring in Chinese New Year with foodies and art enthusiasts 
 alike at the next\nSalon Series Dinner\nhosted by\nFeast Your Eyes\non
 \nFriday, February 22, 6 – 9:30 pm\nThe beautiful industrial space a
 t Front and Palmer will be transformed into an art gallery cum festiva
 l carefully curated to excite all of your senses. The salon will featu
 re Chinese and Asian food cuisine, live music, and an art installation
  curated by Chessia Kelley for InLiquid. Works by Chinese-American art
 ists Colette Fu and Jacque Liu will include vibrant photographic colla
 ge and architecturally influenced graphite and structural drawings. To
  top things off, a special performance of the traditional Lion Dance w
 ill be performed by The Philadelphia Suns. For those that prefer exper
 iential theater, join us and special guest Chef Joe Poon for an evenin
 g of art, food, and fun.\nCharitable donations for a minimum of $20 pe
 r person will benefit The Eastern Tower Community Center in Chinatown,
  a project of the Philadelphia Chinatown Development Corporation (PCDC
 ). $65 per person, cash bar.\n\nFor more information visit http://phil
 lytodo.com/events/feast-your-eyes-dinner-salon
DTSTART:20130222T230000Z
DTEND:20130223T023000Z
CATEGORIES:dinner, art, show
LOCATION:Feast Your Eyes Catering
WEBSITE:http://inliquid.org/happenings/inliquid-projects/partner-proje
 cts/feast-your-eyes-dinner-salon/
URL:http://inliquid.org/happenings/inliquid-projects/partner-projects/
 feast-your-eyes-dinner-salon/
CONTACT:215-634-3002
ORGANIZER:InLiquid
ATTACH;FMTTYPE="image/jpeg":http://storage.ning.com/topology/rest/1.0/
 file/get/3054960903?profile=original
ATTENDEE;ROLE=REQ-PARTICIPANT;PARTSTAT=ACCEPTED;RSVP=TRUE;CN="Erica Mi
 nutella":http://phillytodo.com/profile/EricaMinutella
END:VEVENT
END:VCALENDAR
