BEGIN:VCALENDAR
PRODID:NingEventWidget-v1
VERSION:2.0
METHOD:PUBLISH
BEGIN:VEVENT
UID:4320450:Event:35096
DTSTAMP:20260425T163221Z
SUMMARY:Feast of the Seven Fishes at Positano Coast
DESCRIPTION:While all Italian holidays are steeped in culture and trad
 ition, none quite compares to Christmas Eve and the Feast of the Seven
  Fishes. Positano Coast is hosting a traditional Feast of the Seven Fi
 shes dinner on Christmas Eve for you and your family.\nThe feast's men
 u includes: Frittura di Pesce, Polipetti al Guazzetto, Seppia in Umido
 , Strascinati ai Frutti di Mare, Spaghetti ai Ricci di Mare, Baccala a
 lla Napoletana and Pesce Spada. Desserts include: panettone, struffoli
  and gelato\nWines being poured on Christmas Eve, if guests select the
  wine pairing option are:\nGreco Di Meo 2012, Campania\nFiano Di Meo 2
 011, Campania\nAglianico Terredora 2012, Campania\nSangue Di Giuda Los
 ito e Guarini, Puglia\n\n$45 per guest/ $80 per guest with wine pairin
 g\n*plus tax & gratuity\n**The entire table must participate\n\nReserv
 ations are required\nCall Positano Coast at (215)238-0499\n\nFor more 
 information visit http://phillytodo.com/events/feast-of-the-seven-fish
 es-at-positano-coast
DTSTART:20131224T200000Z
DTEND:20131225T033000Z
CATEGORIES:christmas, eve, dinner
LOCATION:Positano Coast by Aldo Lamberti
WEBSITE:http://www.positanocoast.net
URL:http://www.positanocoast.net
CONTACT:(215)238-0499
ORGANIZER;CN="Positano Coast":http://phillytodo.com/profile/PositanoCo
 ast
ATTACH;FMTTYPE="image/jpeg":http://storage.ning.com/topology/rest/1.0/
 file/get/3054972967?profile=original
ATTENDEE;ROLE=REQ-PARTICIPANT;PARTSTAT=ACCEPTED;RSVP=TRUE;CN="Positano
  Coast":http://phillytodo.com/profile/PositanoCoast
END:VEVENT
END:VCALENDAR
