BEGIN:VCALENDAR
PRODID:NingEventWidget-v1
VERSION:2.0
METHOD:PUBLISH
BEGIN:VEVENT
UID:4320450:Event:32625
DTSTAMP:20260425T144421Z
SUMMARY:Fatherâ€™s Day Brunch at Granite Hill
DESCRIPTION:Celebrate Fatherâ€™s Day with an entertaining brunch at Gr
 anite Hill inspired byÂ The Art of GolfÂ exhibition on view through Ju
 ly 7. The U.S. Open Golf Tournament will culminate on this special day
  for Dads and Granite Hill will screen the tournament in the restauran
 t throughout the day. The brunch menu features all your favorites from
  the talented chefs at Stephen STARR Events, including Prime Rib and a
  made-to-order omelet station.  Reservations requiredâ€¨$55 for Adults
 , $24 for children 12 and under, Members save 10%.  VisitÂ Open TableÂ
  or call 215-684-7990 to make your reservations today.\n\nFor more inf
 ormation visit http://phillytodo.com/events/father-s-day-brunch-at-gra
 nite-hill
DTSTART:20130616T143000Z
DTEND:20130616T183000Z
CATEGORIES:brunch
LOCATION:Granite Hill, Main Building of The Philadelphia Museum of Art
WEBSITE:
URL:
CONTACT:
ORGANIZER:Cashman & Associates
ATTACH;FMTTYPE="image/jpeg":http://storage.ning.com/topology/rest/1.0/
 file/get/3054965673?profile=original
ATTENDEE;ROLE=REQ-PARTICIPANT;PARTSTAT=ACCEPTED;RSVP=TRUE;CN="Jessica 
 Floersch":http://phillytodo.com/profile/JessicaFloersch
END:VEVENT
END:VCALENDAR
