BEGIN:VCALENDAR
PRODID:NingEventWidget-v1
VERSION:2.0
METHOD:PUBLISH
BEGIN:VEVENT
UID:4320450:Event:42516
DTSTAMP:20260425T113219Z
SUMMARY:Fashion Under the Shambles - Philadelphia Collection 2015
DESCRIPTION:South Street Headhouse District presents Philadelphia’s 
 largest open-air runway show with Fashion Under the Shambles - Philade
 lphia Collection 2015 on Wednesday, October 14, 2015, from 6:00pm to 9
 :00pm, under the Headhouse Square Shambles (200 Pine Street). Enjoy a 
 visually tantalizing evening with the best of local Philly fashion wit
 h exciting collaborations between our city’s most innovative and cre
 ative boutiques and salons. Experience cutting-edge, street style and 
 preview fall looks for both men and women. VIP tickets are $15.00 and 
 include a reserved seat, one drink ticket and swag bag. Standing room 
 only is free, but RSVP required. For more information, call 215-413-37
 13 or visit www.southstreet.com/fashion-shambles/\n\nFor more informat
 ion visit http://phillytodo.com/events/fashion-under-the-shambles-phil
 adelphia-collection-2015
DTSTART:20151014T220000Z
DTEND:20151015T010000Z
CATEGORIES:fashion, show
LOCATION:Headhouse Square Shambles
WEBSITE:http://southstreet.com/fashion-shambles/
URL:http://southstreet.com/fashion-shambles/
CONTACT:
ORGANIZER:South Street Headhouse District
ATTACH;FMTTYPE="image/jpeg":http://storage.ning.com/topology/rest/1.0/
 file/get/3054990325?profile=original
ATTENDEE;ROLE=REQ-PARTICIPANT;PARTSTAT=ACCEPTED;RSVP=TRUE;CN="Aversa P
 R & Events":http://phillytodo.com/profile/KoryAversa277
END:VEVENT
END:VCALENDAR
