BEGIN:VCALENDAR
PRODID:NingEventWidget-v1
VERSION:2.0
METHOD:PUBLISH
BEGIN:VEVENT
UID:4320450:Event:38410
DTSTAMP:20260425T145620Z
SUMMARY:Fashion Under the Shambles - Part of the Philadelphia Collecti
 on
DESCRIPTION:Celebrate the Philadelphia Collection 2014 on Tuesday, Sep
 tember 23rd at \"Fashion Under The Shambles.” Doors open at 6:00 pm,
  with the show starting at 7:00 pm, under the historic Headhouse Shamb
 les (2nd and Lombard Street). Experience an evening of cutting-edge, s
 treet style for men and women on the runway at the Headhouse Square Sh
 ambles. America's Next Top Model Finalist Cory Wade Hindorff will join
  us as Master of Ceremonies. Free admission is standing room only, wit
 h complimentary hors d'oeuvres and a cash bar. VIP tickets are also av
 ailable and include swag bags, two drink tickets and show seating. RSV
 P and tickets are available at southStFashion.eventbrite.com.\n\n\nFor
  more information visit http://phillytodo.com/events/fashion-under-the
 -shambles-part-of-the-philadelphia-collection
DTSTART:20140911T220000Z
DTEND:20140911T230000Z
CATEGORIES:fashion, show
LOCATION:Headhouse Shambles
WEBSITE:http://southStFashion.eventbrite.com
URL:http://southStFashion.eventbrite.com
CONTACT:215-840-5214
ORGANIZER;CN="Aversa PR & Events":http://phillytodo.com/profile/KoryAv
 ersa277
ATTACH;FMTTYPE="image/jpeg":http://storage.ning.com/topology/rest/1.0/
 file/get/3054979955?profile=original
ATTENDEE;ROLE=REQ-PARTICIPANT;PARTSTAT=ACCEPTED;RSVP=TRUE;CN="Aversa P
 R & Events":http://phillytodo.com/profile/KoryAversa277
END:VEVENT
END:VCALENDAR
