BEGIN:VCALENDAR
PRODID:NingEventWidget-v1
VERSION:2.0
METHOD:PUBLISH
BEGIN:VEVENT
UID:4320450:Event:61002
DTSTAMP:20260425T112616Z
SUMMARY:Farm Market Delivery
DESCRIPTION:Can't make it to our Farm Market? We will shop and bring i
 t to you! If you live within a 5-mile radius of our Market you are eli
 gible for this service. Minimum purchase of $10 is required.  Deliver
 y Charge is $5. Payment must be paid in advance prior to delivery via 
 credit card over the phone.  Give us a call at 610-876-7116 to place 
 your order! Visit https://www.linvilla.com/farm-market for more inform
 ation. Restrictions apply.\n \nThe Farm Market is continuing operatio
 ns daily from 9 am to 6 pm. 9 am to 10 am is reserved for seniors and 
 immunocompromised customers.\n\nFor more information visit http://phil
 lytodo.com/events/farm-market-delivery
DTSTART:20200901T040000Z
DTEND:20201001T035900Z
CATEGORIES:farm, market, delivery
LOCATION:Linvilla Orchards
WEBSITE:
URL:
CONTACT:
ORGANIZER:
ATTACH;FMTTYPE="image/jpeg":https://storage.ning.com/topology/rest/1.0
 /file/get/7689750880?profile=original
ATTENDEE;ROLE=REQ-PARTICIPANT;PARTSTAT=ACCEPTED;RSVP=TRUE;CN="Tina Bre
 slow":http://phillytodo.com/profile/TinaBreslow
END:VEVENT
END:VCALENDAR
