BEGIN:VCALENDAR
PRODID:NingEventWidget-v1
VERSION:2.0
METHOD:PUBLISH
BEGIN:VEVENT
UID:4320450:Event:25926
DTSTAMP:20260425T175812Z
SUMMARY:Family Spring Break at Shofuso Japanese House and Garden
DESCRIPTION:Wed. and Thurs., April 4-5: Family Spring Break at Shofuso
 . 10 am – 4 pm. Free with admission.  \nCome visit the Japanese hou
 se, listen to kamishbai, try origami and family activities. Free Famil
 y Guide with scavenger hunt for each child.\n\nFor more information vi
 sit http://phillytodo.com/events/family-spring-break-at-shofuso-japane
 se-house-and-garden
DTSTART:20120404T140000Z
DTEND:20120404T200000Z
CATEGORIES:spring, break
LOCATION:Fairmount Park
WEBSITE:http://www.shofuso.com
URL:http://www.shofuso.com
CONTACT:215-787-5097
ORGANIZER:Shofuso Japanese House and Garden
ATTACH;FMTTYPE="image/jpeg":http://storage.ning.com/topology/rest/1.0/
 file/get/3054958332?profile=original
ATTENDEE;ROLE=REQ-PARTICIPANT;PARTSTAT=ACCEPTED;RSVP=TRUE;CN="Cari Fei
 ler Bender":http://phillytodo.com/profile/CariFeilerBender
END:VEVENT
END:VCALENDAR
