BEGIN:VCALENDAR
PRODID:NingEventWidget-v1
VERSION:2.0
METHOD:PUBLISH
BEGIN:VEVENT
UID:4320450:Event:47018
DTSTAMP:20260425T115209Z
SUMMARY:Family Movie Night
DESCRIPTION:Join us for our August Family Movie Night featuring Min
 ions on Monday, August 22.Bring the kids to watch the cute, little, a
 nd yellow guys on our 32-foot TV Screen!Enjoy a great night out with t
 he family!Tons of kids games, activities, and crafts starting at 5pm.
 Movie starts 6pm.Plus- Enter to WIN great prizes!Specialty themed kid
 s menu will be available.FREE EVENT! FREE PARKING! FREE POPCORN! - \
 n\nFor more information visit http://phillytodo.com/events/family-movi
 e-night
DTSTART:20160822T210000Z
DTEND:20160823T000000Z
CATEGORIES:family, event
LOCATION:XFINITY Live!
WEBSITE:http://xfinitylive.com/family
URL:http://xfinitylive.com/family
CONTACT:
ORGANIZER:XFINITY Live!
ATTACH;FMTTYPE="image/jpeg":http://storage.ning.com/topology/rest/1.0/
 file/get/3054997319?profile=original
ATTENDEE;ROLE=REQ-PARTICIPANT;PARTSTAT=ACCEPTED;RSVP=TRUE;CN="XFINITY 
 Live! Philadelphia":http://phillytodo.com/profile/XFINITYLivePhiladelp
 hia
END:VEVENT
END:VCALENDAR
