BEGIN:VCALENDAR
PRODID:NingEventWidget-v1
VERSION:2.0
METHOD:PUBLISH
BEGIN:VEVENT
UID:4320450:Event:49102
DTSTAMP:20260425T115813Z
SUMMARY:Family Movie Night: The Secret Life of Pets
DESCRIPTION:Join us for our first Family Movie Night of 2017 featuring
  Secret Life of Pets on Monday, January 16.   Bring the kids to watch 
 what our pets do when we're not home shown on almost 100 TV screens!  
 Enjoy a great night out with the family!  Tons of kids games, activiti
 es, and crafts starting at 5pm. Movie starts 6pm.  Plus- Enter to WIN 
 great prizes!  Specialty themed kids menu will be available.  FREE EVE
 NT! FREE PARKING! FREE POPCORN!\n\nFor more information visit http://p
 hillytodo.com/events/family-movie-night-the-secret-life-of-pets
DTSTART:20170116T220000Z
DTEND:20170117T010000Z
CATEGORIES:family
LOCATION:XFINITY Live!
WEBSITE:http://www.xfinitylive.com/entertainment/event/10832
URL:http://www.xfinitylive.com/entertainment/event/10832
CONTACT:
ORGANIZER:
ATTACH;FMTTYPE="image/jpeg":http://storage.ning.com/topology/rest/1.0/
 file/get/3055002203?profile=original
ATTENDEE;ROLE=REQ-PARTICIPANT;PARTSTAT=ACCEPTED;RSVP=TRUE;CN="XFINITY 
 Live! Philadelphia":http://phillytodo.com/profile/XFINITYLivePhiladelp
 hia
END:VEVENT
END:VCALENDAR
