BEGIN:VCALENDAR
PRODID:NingEventWidget-v1
VERSION:2.0
METHOD:PUBLISH
BEGIN:VEVENT
UID:4320450:Event:37611
DTSTAMP:20260425T144826Z
SUMMARY:Family Movie Night: The Avengers
DESCRIPTION:Bring the kids down for our monthly family movie night fea
 turing Marvel's The Avengers on our 32-foot HD LED big screen! Be sure
  to participate in our games to become an honorary Avenger superhero a
 nd take a picture with all The Avengers. Enter to win an Avengers priz
 e pack! Giveaway announced at 5:20 and movie begins at 5:30. FREE even
 t! FREE parking! FREE popcorn!\n\nFor more information visit http://ph
 illytodo.com/events/family-movie-night-the-avengers
DTSTART:20140715T203000Z
DTEND:20140716T010000Z
CATEGORIES:family, fun, movie, night
LOCATION:XFINITY Live! Philadelphia
WEBSITE:http://xfinitylive.com/entertainment/event/2462
URL:http://xfinitylive.com/entertainment/event/2462
CONTACT:267-443-6415
ORGANIZER;CN="XFINITY Live! Philadelphia":http://phillytodo.com/profil
 e/XFINITYLivePhiladelphia
ATTACH;FMTTYPE="image/jpeg":http://storage.ning.com/topology/rest/1.0/
 file/get/3054977866?profile=original
ATTENDEE;ROLE=REQ-PARTICIPANT;PARTSTAT=ACCEPTED;RSVP=TRUE;CN="XFINITY 
 Live! Philadelphia":http://phillytodo.com/profile/XFINITYLivePhiladelp
 hia
END:VEVENT
END:VCALENDAR
