BEGIN:VCALENDAR
PRODID:NingEventWidget-v1
VERSION:2.0
METHOD:PUBLISH
BEGIN:VEVENT
UID:4320450:Event:40719
DTSTAMP:20260425T130750Z
SUMMARY:Family Movie Night: Monsters University
DESCRIPTION:Bring the kids down for our monthly family movie night fea
 turing Disney's Monsters University on our 32-foot HD LED big screen o
 n Monday, March 23rd.Enjoy great games, activities, crafts and more st
 arting at 5pm. Don't forget to enter for your chance to win a Monsters
  University prize pack - winner will be announced at the conclusion of
  the movie.Disney's Monsters University will begin on the big screen a
 round 5:45pm.Specialty themed kids menus will also be available inside
  of NBC Sports Arena. CLICK HERE for more information. FREE EVENT! 
 FREE PARKING! FREE POPCORN! \n\nFor more information visit http://phi
 llytodo.com/events/family-movie-night-monsters-university
DTSTART:20150323T210000Z
DTEND:20150324T000000Z
CATEGORIES:family, kids, movies
LOCATION:XFINITY Live! Philadelphia
WEBSITE:http://www.xfinitylive.com/entertainment/event/4060
URL:http://www.xfinitylive.com/entertainment/event/4060
CONTACT:2674436415
ORGANIZER;CN="XFINITY Live! Philadelphia":http://phillytodo.com/profil
 e/XFINITYLivePhiladelphia
ATTACH;FMTTYPE="image/jpeg":http://storage.ning.com/topology/rest/1.0/
 file/get/3054987153?profile=original
ATTENDEE;ROLE=REQ-PARTICIPANT;PARTSTAT=ACCEPTED;RSVP=TRUE;CN="XFINITY 
 Live! Philadelphia":http://phillytodo.com/profile/XFINITYLivePhiladelp
 hia
END:VEVENT
END:VCALENDAR
