BEGIN:VCALENDAR
PRODID:NingEventWidget-v1
VERSION:2.0
METHOD:PUBLISH
BEGIN:VEVENT
UID:4320450:Event:49904
DTSTAMP:20260425T144600Z
SUMMARY:Family Movie Night- Moana
DESCRIPTION:XFINITY Live! is back with our new Family Movie Nights Pre
 sented by XFINITY featuring Moana!\nAs you might have noticed, our Fam
 ily Movie Nights have become a great success and can get crowded, so w
 e're taking this opportunity to give back and create a limited amount 
 of tickets to ensure an even better experience for our guests! A $3 ti
 cket is required for all guests with 100% of the ticket proceeds going
  to the Ronald McDonald House of Philadelphia!\nJoin us for a night of
  fun with Moana themed activities and crafts, giveaways, and FREE popc
 orn to watch the movie!\nWe'll also have a themed kids menu available!
 \nActivities begin at 5pm and the movie begins at 6pm.\nEvery one ente
 ring needs a ticket and all tickets must be purchased in advance.\n\nF
 or more information visit http://phillytodo.com/events/family-movie-ni
 ght-moana
DTSTART:20170718T210000Z
DTEND:20170719T000000Z
CATEGORIES:family, movie, night
LOCATION:Xfinity Live!
WEBSITE:http://www.xfinitylive.com/family
URL:http://www.xfinitylive.com/family
CONTACT:
ORGANIZER;CN="XFINITY Live! Philadelphia":http://phillytodo.com/profil
 e/XFINITYLivePhiladelphia
ATTACH;FMTTYPE="image/jpeg":http://storage.ning.com/topology/rest/1.0/
 file/get/3055003782?profile=original
ATTENDEE;ROLE=REQ-PARTICIPANT;PARTSTAT=ACCEPTED;RSVP=TRUE;CN="XFINITY 
 Live! Philadelphia":http://phillytodo.com/profile/XFINITYLivePhiladelp
 hia
END:VEVENT
END:VCALENDAR
