BEGIN:VCALENDAR
PRODID:NingEventWidget-v1
VERSION:2.0
METHOD:PUBLISH
BEGIN:VEVENT
UID:4320450:Event:47080
DTSTAMP:20260425T115655Z
SUMMARY:Family Movie Night: Hotel Transylvania 2
DESCRIPTION:Join us for our October Family Movie Night featuring Ho
 tel Transylvania 2 on Tuesday, October 18!  Bring the kids to watch t
 he silly, spooky crew on our 32-foot TV Screen!  Enjoy a great night o
 ut with the family!  Tons of kids games, activities, and crafts starti
 ng at 5pm. Movie starts 6pm.  Plus- Enter to WIN great prizes!  Spec
 ialty themed kids menu will be available.  FREE EVENT! FREE PARKING! F
 REE POPCORN! \nRSVP on Facebook: https://www.facebook.com/events/169
 106150196726/\n\nFor more information visit http://phillytodo.com/even
 ts/family-movie-night-hotel-transylvania-2-1
DTSTART:20161018T210000Z
DTEND:20161019T000000Z
CATEGORIES:family
LOCATION:XFINITY Live!
WEBSITE:http://www.xfinitylive.com/entertainment/event/9542#sthash.D8s
 ne6bF.dpuf
URL:http://www.xfinitylive.com/entertainment/event/9542#sthash.D8sne6b
 F.dpuf
CONTACT:
ORGANIZER;CN="XFINITY Live! Philadelphia":http://phillytodo.com/profil
 e/XFINITYLivePhiladelphia
ATTACH;FMTTYPE="image/jpeg":http://storage.ning.com/topology/rest/1.0/
 file/get/3054998559?profile=original
ATTENDEE;ROLE=REQ-PARTICIPANT;PARTSTAT=ACCEPTED;RSVP=TRUE;CN="XFINITY 
 Live! Philadelphia":http://phillytodo.com/profile/XFINITYLivePhiladelp
 hia
END:VEVENT
END:VCALENDAR
