BEGIN:VCALENDAR
PRODID:NingEventWidget-v1
VERSION:2.0
METHOD:PUBLISH
BEGIN:VEVENT
UID:4320450:Event:39738
DTSTAMP:20260425T130959Z
SUMMARY:Family Movie Night: Despicable Me 2
DESCRIPTION:RESCHEDULED: Join us for Despicable Me 2 Family Movie Nigh
 t on Monday, February 23rd. Rescheduled from January.Tons of great gam
 es & activities will be available starting at 5pm. Don't forget to ent
 er for themed prizes! Despicable Me 2 will begin on the 32-foot HD LED
  big screen around 5:45pm.Specialty themed kids menu will be available
 . FREE EVENT! FREE PARKING! FREE POPCORN! \n\nFor more information v
 isit http://phillytodo.com/events/family-movie-night-despicable-me-2-1
DTSTART:20150223T220000Z
DTEND:20150324T000000Z
CATEGORIES:family, kids, movies, popcorn
LOCATION:XFINITY Live! Philadelphia
WEBSITE:http://www.xfinitylive.com/entertainment/event/3969
URL:http://www.xfinitylive.com/entertainment/event/3969
CONTACT:2674436415
ORGANIZER;CN="XFINITY Live! Philadelphia":http://phillytodo.com/profil
 e/XFINITYLivePhiladelphia
ATTACH;FMTTYPE="image/jpeg":http://storage.ning.com/topology/rest/1.0/
 file/get/3054985457?profile=original
ATTENDEE;ROLE=REQ-PARTICIPANT;PARTSTAT=ACCEPTED;RSVP=TRUE;CN="XFINITY 
 Live! Philadelphia":http://phillytodo.com/profile/XFINITYLivePhiladelp
 hia
END:VEVENT
END:VCALENDAR
